BEGIN:VCALENDAR
VERSION:2.0
PRODID:-//SPOT Children&#039;s Therapy Centre - ECPv6.15.20//NONSGML v1.0//EN
CALSCALE:GREGORIAN
METHOD:PUBLISH
X-WR-CALNAME:SPOT Children&#039;s Therapy Centre
X-ORIGINAL-URL:https://spot.com.hk
X-WR-CALDESC:Events for SPOT Children&#039;s Therapy Centre
REFRESH-INTERVAL;VALUE=DURATION:PT1H
X-Robots-Tag:noindex
X-PUBLISHED-TTL:PT1H
BEGIN:VTIMEZONE
TZID:Asia/Hong_Kong
BEGIN:STANDARD
TZOFFSETFROM:+0800
TZOFFSETTO:+0800
TZNAME:HKT
DTSTART:20250101T000000
END:STANDARD
END:VTIMEZONE
BEGIN:VEVENT
DTSTART;TZID=Asia/Hong_Kong:20260629T093000
DTEND;TZID=Asia/Hong_Kong:20260629T113000
DTSTAMP:20260423T151452
CREATED:20260420T092022Z
LAST-MODIFIED:20260422T070538Z
UID:10017196-1782725400-1782732600@spot.com.hk
SUMMARY:Brick Builders Club - Summer Camp
DESCRIPTION:Join us for a fun-filled 2-hour summer camp experience where creativity meets communication! In this interactive group\, children work together to build incredible Lego creations while developing essential social and language skills. \nAreas of Focus:\n– Collaborate on exciting building challenges and themed projects\n– Practice turn-taking\, sharing ideas\, and problem-solving as a team\n– Use descriptive language to explain designs and give instructions\n– Build confidence through hands-on\, pressure-free activities \nPerfect for kids who:\n– Love building and creating\n– Are working on social communication skills\n– Enjoy hands-on\, screen-free fun\n– Want to make new friends in a supportive environment\n \nDetails:\nWhere? SPOT Central\, 14/F\, 1402 China Building\, 29 Queen’s Road\, Central\nWhen? Monday June 29\, Tuesday June 30 & Thursday July 2\, Friday July 3 at 9:30am to 11:30am for 5-10 year olds\nHow much? HK$5\,600 for four days (Early registration discount: 5% off when you pay by 1 June 2026)\nNo building experience needed – just bring your imagination! All Lego materials provided. \nThe group will be run by our speech and language therapist Dianna Lam.
URL:https://spot.com.hk/event/brick-builders-club/2026-06-29/
CATEGORIES:Social Skills and Teamwork,Conflict Resolution,Problem-solving skills,SPOT Central
ATTACH;FMTTYPE=image/png:https://spot.com.hk/wp-content/uploads/2026/04/Brick-Builders-Club-Website.png
END:VEVENT
END:VCALENDAR