BEGIN:VCALENDAR
VERSION:2.0
PRODID:-//SPOT Children&#039;s Therapy Centre - ECPv6.15.20//NONSGML v1.0//EN
CALSCALE:GREGORIAN
METHOD:PUBLISH
X-WR-CALNAME:SPOT Children&#039;s Therapy Centre
X-ORIGINAL-URL:https://spot.com.hk/zh
X-WR-CALDESC:SPOT Children&#039;s Therapy Centre的活动
REFRESH-INTERVAL;VALUE=DURATION:PT1H
X-Robots-Tag:noindex
X-PUBLISHED-TTL:PT1H
BEGIN:VTIMEZONE
TZID:Asia/Hong_Kong
BEGIN:STANDARD
TZOFFSETFROM:+0800
TZOFFSETTO:+0800
TZNAME:HKT
DTSTART:20250101T000000
END:STANDARD
END:VTIMEZONE
BEGIN:VEVENT
DTSTART;TZID=Asia/Hong_Kong:20260317T170000
DTEND;TZID=Asia/Hong_Kong:20260317T180000
DTSTAMP:20260422T170932
CREATED:20260128T060636Z
LAST-MODIFIED:20260128T083028Z
UID:10016420-1773766800-1773770400@spot.com.hk
SUMMARY:Brain Hackers - Unlocking Skills for Success
DESCRIPTION:Executive functioning skills provide the basis for the brain’s “command center”\, to enable tweens (ages 10-12) to self-regulate\, plan and organise their thoughts and to put their plans into action to achieve their goals. This group is aimed at supporting tweens navigate the last years of primary school and support the transition into high school. \nAreas of Focus:\nTask Initiation: The ability to start a project (like homework) without procrastinating or needing multiple reminders.\nWorking Memory: Holding and using multiple pieces of information at once\, such as remembering a multi-step instruction from a teacher while looking for a pen.\nPlanning & Prioritization: Deciding which tasks are most urgent and mapping out the steps to complete long-term projects\, like a science fair report.\nOrganization: Keeping track of physical items (backpacks\, binders) and digital files so they don’t get lost.\nInhibitory Control: Managing impulses\, such as resisting the urge to check a phone during study time or pausing before reacting in a social disagreement.\nCognitive Flexibility: Adjusting when plans change or when a first attempt at solving a problem doesn’t work\n \nDetails:\nWhere? SPOT Central\, 17/F\, Wing’s Building\, 110-116 Queen’s Road Central\nWhen? Tuesdays at 5:00-6:00pm on Feb 24\, Mar 3\, Mar 10\, Mar 17 and Mar 24 with Cameron Dalling\nHow much? 4\,500HKD for five sessions\nAges? 10 to 12 year olds\nMin: 3 clients\, max 6 \nPlease note:\nPayment for group must be made in full prior to first session. Participants are expected to attend all sessions to complete the workshop. There will be no refunds or make- up classes.
URL:https://spot.com.hk/zh/event/brain-hackers-unlocking-skills-for-success/2026-03-17/
LOCATION:SPOT Central\, 17/F\, Wing's Building\, 110-116 Queen's Road Central\, Hong Kong\, Hong Kong
CATEGORIES:Executive Functioning,SPOT Central
END:VEVENT
END:VCALENDAR