BEGIN:VCALENDAR
VERSION:2.0
PRODID:-//SPOT Children&#039;s Therapy Centre - ECPv6.15.20//NONSGML v1.0//EN
CALSCALE:GREGORIAN
METHOD:PUBLISH
X-WR-CALNAME:SPOT Children&#039;s Therapy Centre
X-ORIGINAL-URL:https://spot.com.hk/zh
X-WR-CALDESC:SPOT Children&#039;s Therapy Centre的活动
REFRESH-INTERVAL;VALUE=DURATION:PT1H
X-Robots-Tag:noindex
X-PUBLISHED-TTL:PT1H
BEGIN:VTIMEZONE
TZID:Asia/Hong_Kong
BEGIN:STANDARD
TZOFFSETFROM:+0800
TZOFFSETTO:+0800
TZNAME:HKT
DTSTART:20250101T000000
END:STANDARD
END:VTIMEZONE
BEGIN:VEVENT
DTSTART;TZID=Asia/Hong_Kong:20260529T090000
DTEND;TZID=Asia/Hong_Kong:20260529T100000
DTSTAMP:20260420T212917
CREATED:20250502T024933Z
LAST-MODIFIED:20251103T053820Z
UID:10004725-1780045200-1780048800@spot.com.hk
SUMMARY:Calm Kids
DESCRIPTION:This music therapy pre-school playgroup put a focus on child empowerment and regulation. It allows children to feel confident to express themselves and learn how to identify new emotions and social skills. \nWe practice sharing\, singing\, instrument playing\, body movement and mindfulness to encourage self-regulation. When we validate a child’s emotions\, we allow a child to express themselves in a safe environment. This positive acknowledgement allows children to become more aware of their emotions and body\, which can help reduce or de-escalate reactions to big emotions. \nOur music therapist works with you and your child to promote overall well being. This can include practicing social\, physical\, emotional and cognitive skills through therapeutic musical methods. \nDoes your child:\n– show signs of anxiety or stress?\n– struggle to relax?\n– have love self esteem or confidence?\n– find making friends challenging?\n– have trouble calming down after big emotions?\n– experience a developmental delay? \nMusic is an effective tool that can inspire and develop both verbal and non-verbal communication skills. Mindful music use also encourages soothing and calming effects on all ages. No previous music experience is required to join music therapy. \nDetails:\nWhen? Fridays at 9-10am at SPOT One Island South\nHow much? 2700HKD for 6 sessions.\nAges 18 months to 3 years. Children will need to be accompanied by one adult.\nSupervised by Claudia Jones\, registered music therapist. \nPlease note:\nPayment for group must be made in full prior to first session. In order to maintain the group numbers consistency\, there will be no refund or make up sessions offered unless a doctor’s certificate is provided. \n 
URL:https://spot.com.hk/zh/event/calm-kids-music-therapy-pre-school-playgroup-2-2-2/2026-05-29/
LOCATION:SPOT One Island South\, Unit 1021-1025\, One Island South\, 2 Heung Yip Road\, Wong Chuk Hang\, Hong Kong\, Hong Kong
CATEGORIES:Music Therapy,SPOT One Island South
ATTACH;FMTTYPE=image/png:https://spot.com.hk/wp-content/uploads/2023/04/Group-Calm-Kids.png
END:VEVENT
END:VCALENDAR