BEGIN:VCALENDAR
VERSION:2.0
PRODID:-//SPOT Children&#039;s Therapy Centre - ECPv6.15.20//NONSGML v1.0//EN
CALSCALE:GREGORIAN
METHOD:PUBLISH
X-WR-CALNAME:SPOT Children&#039;s Therapy Centre
X-ORIGINAL-URL:https://spot.com.hk/zh_cn
X-WR-CALDESC:SPOT Children&#039;s Therapy Centre的活动
REFRESH-INTERVAL;VALUE=DURATION:PT1H
X-Robots-Tag:noindex
X-PUBLISHED-TTL:PT1H
BEGIN:VTIMEZONE
TZID:Asia/Hong_Kong
BEGIN:STANDARD
TZOFFSETFROM:+0800
TZOFFSETTO:+0800
TZNAME:HKT
DTSTART:20250101T000000
END:STANDARD
END:VTIMEZONE
BEGIN:VEVENT
DTSTART;TZID=Asia/Hong_Kong:20260629T173000
DTEND;TZID=Asia/Hong_Kong:20260629T183000
DTSTAMP:20260422T050659
CREATED:20241008T025138Z
LAST-MODIFIED:20250512T112604Z
UID:10002550-1782754200-1782757800@spot.com.hk
SUMMARY:Lego Therapy
DESCRIPTION:Lego Therapy\nLego therapy is a creative and engaging approach that supports children’s emotional and social development through play. Using Lego bricks\, children collaborate to build structures and solve problems\, enhancing teamwork and boosting self-confidence. This hands-on therapy also improves communication skills and encourages imaginative thinking. The shared focus on building uses children’s strengths and helps them practise communication and social skills while having fun.\n\nAreas of focus:\n– Communicating and working with peers\n– Emotional Regulation\n– Sharing and turn-taking\n– Problem Solving\n– Creativity and imaginative play\n– Friendship Building\n\nFor age group: 6-8 years old\n\nDates and times: 5.30pm – 6.30pm Mondays at One Island South\nThere would be 10 sessions.\nCost: $8300\nRun by Speech and Language Therapist Dianna Lam\n\nMin and max people:  4-5 children
URL:https://spot.com.hk/zh_cn/event/lego-therapy-3/2026-06-29/
LOCATION:SPOT One Island South\, Unit 1021-1025\, One Island South\, 2 Heung Yip Road\, Wong Chuk Hang\, Hong Kong\, Hong Kong
CATEGORIES:Social Skills and Teamwork,Emotional Regulation,Problem-solving skills,SPOT One Island South
ATTACH;FMTTYPE=image/png:https://spot.com.hk/wp-content/uploads/2024/10/Screenshot-2024-10-08-at-10.50.35 AM.png
END:VEVENT
END:VCALENDAR